BEGIN:VCALENDAR
VERSION:2.0
PRODID:-//eventon.com NONSGML v1.0//EN
BEGIN:VEVENT
UID:69e74e93a0db5
DTSTAMP:20260421T121651
DTSTART:20260426T070000Z
DTEND:20260426T150000Z
LOCATION:
SUMMARY:Foire aux disques
DESCRIPTION: &nbsp;
END:VEVENT
END:VCALENDAR